BEGIN:VCALENDAR
VERSION:2.0
PRODID:-//wp-events-plugin.com//7.2.3.1//EN
BEGIN:VEVENT
UID:43765@artisanfoodtrail.co.uk
DTSTART:20250125T090000Z
DTEND:20250125T123000Z
DTSTAMP:20250108T142156Z
URL:https://artisanfoodtrail.co.uk/events/events/beaconsfield-farmers-mark
 et-2025-01-25/
SUMMARY:Beaconsfield Farmers' Market
DESCRIPTION:Beaconsfield Farmers' Market\nPlease see below for further info
 rmation about Beaconsfield Farmers' Market.\nFarmers’ Market Visitors:\n
 \n 	If you would like further information about this event please click th
 rough to the event website.\n 	If the event is ticketed\, you will need to
  click through to the event's website for information of ticket costs and 
 how to purchase.\n 	We advise checking on the event's website for any upda
 tes such as change of date\, change of time\, cancellation\, before travel
 ling to the event.\n\nMarket held earlier during December because of Chris
 tmas (see link for details)\nTraders:\nPlease note: The Artisan Food Trail
  does not run this event\, it is a listing on our website only. \n\n 	If y
 ou are looking for information or are interested in trading at this event 
 please click through to the event's website and look for the organiser's d
 etails to contact them directly.\n 	We are unable to take bookings or give
  you further information about trading.\n\nThe Artisan Food Trail is NOT i
 nvolved with the event and in any way endorsing it. The event is listed he
 re for your reference only – please contact the event directly for any f
 urther details.
ATTACH;FMTTYPE=image/jpeg:https://artisanfoodtrail.co.uk/events/wp-content
 /uploads/2023/02/Food-Market-Icon.jpg
CATEGORIES:Market
LOCATION:Beaconsfield Farmers' Market\, Windsor End\, The Old Town\, Beacon
 sfield\, Buckinghamshire\, HP9 2JW\, United Kingdom
X-APPLE-STRUCTURED-LOCATION;VALUE=URI;X-ADDRESS=Windsor End\, The Old Town\
 , Beaconsfield\, Buckinghamshire\, HP9 2JW\, United Kingdom;X-APPLE-RADIUS
 =100;X-TITLE=Beaconsfield Farmers' Market:geo:0,0
END:VEVENT
END:VCALENDAR