BEGIN:VCALENDAR
VERSION:2.0
PRODID:-//wp-events-plugin.com//7.2.3.1//EN
BEGIN:VEVENT
UID:34783@artisanfoodtrail.co.uk
DTSTART:20270109T090000Z
DTEND:20270109T133000Z
DTSTAMP:20240110T141002Z
URL:https://artisanfoodtrail.co.uk/events/events/hexham-farmers-market-202
 7-01-09/
SUMMARY:Hexham Farmers' Market
DESCRIPTION:Hexham Farmers' Market\nPlease see below for further informatio
 n about Hexham Farmers' Market.\n\nFarmers’ Market Visitors:\n\n 	If you
  would like further information about this event please click through to t
 he event website.\n 	If the event is ticketed\, you will need to click thr
 ough to the event's website for information of ticket costs and how to pur
 chase.\n 	We advise checking on the event's website for any updates such a
 s change of date\, change of time\, cancellation\, before travelling to th
 e event.\n\nTraders:\nPlease note: The Artisan Food Trail does not run thi
 s event\, it is a listing on our website only. \n\n 	If you are looking fo
 r information or are interested in trading at this event please click thro
 ugh to the event's website and look for the organiser's details to contact
  them directly.\n 	We are unable to take bookings or give you further info
 rmation about trading.\n\nThe Artisan Food Trail is NOT involved with the 
 event and in any way endorsing it. The event is listed here for your refer
 ence only – please contact the event directly for any further details.
ATTACH;FMTTYPE=image/jpeg:https://artisanfoodtrail.co.uk/events/wp-content
 /uploads/2023/02/Food-Market-Icon.jpg
CATEGORIES:Market
LOCATION:Hexham Farmers' Market\, Hexham Market Place\, Hexham\, Northumber
 land\, NE46 1XQ\, United Kingdom
X-APPLE-STRUCTURED-LOCATION;VALUE=URI;X-ADDRESS=Hexham Market Place\, Hexha
 m\, Northumberland\, NE46 1XQ\, United Kingdom;X-APPLE-RADIUS=100;X-TITLE=
 Hexham Farmers' Market:geo:0,0
END:VEVENT
END:VCALENDAR