BEGIN:VCALENDAR
VERSION:2.0
PRODID:-//wp-events-plugin.com//7.2.3.1//EN
BEGIN:VEVENT
UID:30519@artisanfoodtrail.co.uk
DTSTART:20261211T090000Z
DTEND:20261211T123000Z
DTSTAMP:20240109T134416Z
URL:https://artisanfoodtrail.co.uk/events/events/lewes-friday-food-market-
 2026-12-11/
SUMMARY:Lewes Friday Food Market
DESCRIPTION:Lewes Friday Food Market\nPlease see below for further informat
 ion about Lewes Friday Food Market.\n\nFarmers’ Market Visitors:\n\n 	If
  you would like further information about this event please click through 
 to the event website.\n 	If the event is ticketed\, you will need to click
  through to the event's website for information of ticket costs and how to
  purchase.\n 	We advise checking on the event's website for any updates su
 ch as change of date\, change of time\, cancellation\, before travelling t
 o the event.\n\nTraders:\nPlease note: The Artisan Food Trail does not run
  this event\, it is a listing on our website only. \n\n 	If you are lookin
 g for information or are interested in trading at this event please click 
 through to the event's website and look for the organiser's details to con
 tact them directly.\n 	We are unable to take bookings or give you further 
 information about trading.\n\nThe Artisan Food Trail is NOT involved with 
 the event and in any way endorsing it. The event is listed here for your r
 eference only – please contact the event directly for any further detail
 s.
ATTACH;FMTTYPE=image/jpeg:https://artisanfoodtrail.co.uk/events/wp-content
 /uploads/2023/02/Food-Market-Icon.jpg
CATEGORIES:Market
LOCATION:Market Tower\, Market Street\, Lewes \, BN7 2NB\, United Kingdom
X-APPLE-STRUCTURED-LOCATION;VALUE=URI;X-ADDRESS=Market Street\, Lewes \, BN
 7 2NB\, United Kingdom;X-APPLE-RADIUS=100;X-TITLE=Market Tower:geo:0,0
END:VEVENT
END:VCALENDAR