BEGIN:VCALENDAR
VERSION:2.0
PRODID:-//wp-events-plugin.com//7.2.3.1//EN
BEGIN:VEVENT
UID:43051@artisanfoodtrail.co.uk
DTSTART:20251115T093000Z
DTEND:20251115T123000Z
DTSTAMP:20240116T134337Z
URL:https://artisanfoodtrail.co.uk/events/events/stainton-farmers-market-2
 025-11-15/
SUMMARY:Stainton Farmers' Market
DESCRIPTION:Stainton Farmers' Market\nPlease see below for further informat
 ion about Stainton Farmers' Market.\nFarmers’ Market Visitors:\n\n 	If y
 ou would like further information about this event please click through to
  the event website.\n 	If the event is ticketed\, you will need to click t
 hrough to the event's website for information of ticket costs and how to p
 urchase.\n 	We advise checking on the event's website for any updates such
  as change of date\, change of time\, cancellation\, before travelling to 
 the event.\n\nNO MARKETS IN JANUARY AND FEBRUARY\nTraders:\nPlease note: T
 he Artisan Food Trail does not run this event\, it is a listing on our web
 site only. \n\n 	If you are looking for information or are interested in t
 rading at this event please click through to the event's website and look 
 for the organiser's details to contact them directly.\n 	We are unable to 
 take bookings or give you further information about trading.\n\nThe Artisa
 n Food Trail is NOT involved with the event and in any way endorsing it. T
 he event is listed here for your reference only – please contact the eve
 nt directly for any further details.
ATTACH;FMTTYPE=image/jpeg:https://artisanfoodtrail.co.uk/events/wp-content
 /uploads/2023/02/Food-Market-Icon.jpg
CATEGORIES:Market
LOCATION:Stainton Farmers' Market\, Stainton Village Hall\, Stainton\, Penr
 ith\, Cumbria\, CA11 0EP\, United Kingdom
X-APPLE-STRUCTURED-LOCATION;VALUE=URI;X-ADDRESS=Stainton Village Hall\, Sta
 inton\, Penrith\, Cumbria\, CA11 0EP\, United Kingdom;X-APPLE-RADIUS=100;X
 -TITLE=Stainton Farmers' Market:geo:0,0
END:VEVENT
END:VCALENDAR