BEGIN:VCALENDAR
VERSION:2.0
PRODID:-//wp-events-plugin.com//7.2.3.1//EN
BEGIN:VEVENT
UID:40723@artisanfoodtrail.co.uk
DTSTART:20270203T100000Z
DTEND:20270203T150000Z
DTSTAMP:20240111T130424Z
URL:https://artisanfoodtrail.co.uk/events/events/swiss-cottage-farmers-mar
 ket-2027-02-03/
SUMMARY:Swiss Cottage Farmers' Market
DESCRIPTION:Swiss Cottage Farmers' Market\nPlease see below for further inf
 ormation about Swiss Cottage Farmers' Market.\n\nFarmers’ Market Visitor
 s:\n\n 	If you would like further information about this event please clic
 k through to the event website.\n 	If the event is ticketed\, you will nee
 d to click through to the event's website for information of ticket costs 
 and how to purchase.\n 	We advise checking on the event's website for any 
 updates such as change of date\, change of time\, cancellation\, before tr
 avelling to the event.\n\nTraders:\nPlease note: The Artisan Food Trail do
 es not run this event\, it is a listing on our website only. \n\n 	If you 
 are looking for information or are interested in trading at this event ple
 ase click through to the event's website and look for the organiser's deta
 ils to contact them directly.\n 	We are unable to take bookings or give yo
 u further information about trading.\n\nThe Artisan Food Trail is NOT invo
 lved with the event and in any way endorsing it. The event is listed here 
 for your reference only – please contact the event directly for any furt
 her details.
ATTACH;FMTTYPE=image/jpeg:https://artisanfoodtrail.co.uk/events/wp-content
 /uploads/2023/02/Food-Market-Icon.jpg
CATEGORIES:Market
LOCATION:Swiss Cottage Farmers' Market\, Eton Avenue\, Swiss Cottage\, Lond
 on\, NW3 3EU\, United Kingdom
X-APPLE-STRUCTURED-LOCATION;VALUE=URI;X-ADDRESS=Eton Avenue\, Swiss Cottage
 \, London\, NW3 3EU\, United Kingdom;X-APPLE-RADIUS=100;X-TITLE=Swiss Cott
 age Farmers' Market:geo:0,0
END:VEVENT
END:VCALENDAR