BEGIN:VCALENDAR
VERSION:2.0
PRODID:-//wp-events-plugin.com//7.2.3.1//EN
BEGIN:VEVENT
UID:37226@artisanfoodtrail.co.uk
DTSTART:20260502T090000Z
DTEND:20260502T140000Z
DTSTAMP:20240116T134415Z
URL:https://artisanfoodtrail.co.uk/events/events/the-great-little-farmers-
 market-goring-2026-05-02/
SUMMARY:The Great Little Farmers Market Goring
DESCRIPTION:The Great Little Farmers Market Goring\nPlease see below for fu
 rther information about The Great Little Farmers Market Goring.\nFarmers
 ’ Market Visitors:\n\n 	If you would like further information about this
  event please click through to the event website.\n 	If the event is ticke
 ted\, you will need to click through to the event's website for informatio
 n of ticket costs and how to purchase.\n 	We advise checking on the event'
 s website for any updates such as change of date\, change of time\, cancel
 lation\, before travelling to the event.\n\nNo markets in JANUARY and FEBR
 UARY\nTraders:\nPlease note: The Artisan Food Trail does not run this even
 t\, it is a listing on our website only. \n\n 	If you are looking for info
 rmation or are interested in trading at this event please click through to
  the event's website and look for the organiser's details to contact them 
 directly.\n 	We are unable to take bookings or give you further informatio
 n about trading.\n\nThe Artisan Food Trail is NOT involved with the event 
 and in any way endorsing it. The event is listed here for your reference o
 nly – please contact the event directly for any further details.
ATTACH;FMTTYPE=image/jpeg:https://artisanfoodtrail.co.uk/events/wp-content
 /uploads/2023/02/Food-Market-Icon.jpg
CATEGORIES:Market
LOCATION:The Great Little Farmers Market Goring\, Goring Road High Street (
 near George V Avenue)\, Worthing\, West Sussex\, United Kingdom
X-APPLE-STRUCTURED-LOCATION;VALUE=URI;X-ADDRESS=Goring Road High Street (ne
 ar George V Avenue)\, Worthing\, West Sussex\, United Kingdom;X-APPLE-RADI
 US=100;X-TITLE=The Great Little Farmers Market Goring:geo:0,0
END:VEVENT
END:VCALENDAR